BEGIN:VCALENDAR
VERSION:2.0
PRODID:-//Community Homeschoolers Learning Group - ECPv6.15.1.1//NONSGML v1.0//EN
CALSCALE:GREGORIAN
METHOD:PUBLISH
X-WR-CALNAME:Community Homeschoolers Learning Group
X-ORIGINAL-URL:https://communityhomeschoolers.org
X-WR-CALDESC:Events for Community Homeschoolers Learning Group
REFRESH-INTERVAL;VALUE=DURATION:PT1H
X-Robots-Tag:noindex
X-PUBLISHED-TTL:PT1H

BEGIN:VEVENT
DTSTART;TZID=America/New_York:20220520T000000
DTEND;TZID=America/New_York:20220520T235959
DTSTAMP:20260418T211259
CREATED:20221124T195248Z
LAST-MODIFIED:20221124T195248Z
UID:287-1653004800-1653091199@communityhomeschoolers.org
SUMMARY:Graduation
DESCRIPTION:
URL:https://communityhomeschoolers.org/event/graduation/
LOCATION:Conestoga Mennonite Church
CATEGORIES:Learning Group,Volume
END:VEVENT
BEGIN:VEVENT
DTSTART;TZID=America/New_York:20220504T103000
DTEND;TZID=America/New_York:20220504T143000
DTSTAMP:20260418T211259
CREATED:20221124T195248Z
LAST-MODIFIED:20221124T195248Z
UID:285-1651660200-1651674600@communityhomeschoolers.org
SUMMARY:End of Year Picnic
DESCRIPTION:
URL:https://communityhomeschoolers.org/event/end-of-year-picnic/
LOCATION:Poole Forge
CATEGORIES:Learning Group,Volume
END:VEVENT
BEGIN:VEVENT
DTSTART;TZID=America/New_York:20220417T000000
DTEND;TZID=America/New_York:20220417T235959
DTSTAMP:20260418T211259
CREATED:20221124T195602Z
LAST-MODIFIED:20221124T195602Z
UID:347-1650153600-1650239999@communityhomeschoolers.org
SUMMARY:Easter
DESCRIPTION:
URL:https://communityhomeschoolers.org/event/easter/
CATEGORIES:Learning Group,Volume
END:VEVENT
BEGIN:VEVENT
DTSTART;TZID=America/New_York:20220409T190000
DTEND;TZID=America/New_York:20220409T190000
DTSTAMP:20260418T211259
CREATED:20221124T195247Z
LAST-MODIFIED:20221124T195247Z
UID:284-1649530800-1649530800@communityhomeschoolers.org
SUMMARY:Drama Play
DESCRIPTION:
URL:https://communityhomeschoolers.org/event/drama-play-3/
LOCATION:Conestoga Mennonite Church
CATEGORIES:Learning Group,Volume
END:VEVENT
BEGIN:VEVENT
DTSTART;TZID=America/New_York:20220409T140000
DTEND;TZID=America/New_York:20220409T140000
DTSTAMP:20260418T211259
CREATED:20221124T195247Z
LAST-MODIFIED:20221124T195247Z
UID:283-1649512800-1649512800@communityhomeschoolers.org
SUMMARY:Drama Play
DESCRIPTION:
URL:https://communityhomeschoolers.org/event/drama-play-2/
LOCATION:Conestoga Mennonite Church
CATEGORIES:Learning Group,Volume
END:VEVENT
BEGIN:VEVENT
DTSTART;TZID=America/New_York:20220408T190000
DTEND;TZID=America/New_York:20220408T210000
DTSTAMP:20260418T211259
CREATED:20221124T195247Z
LAST-MODIFIED:20221124T195247Z
UID:282-1649444400-1649451600@communityhomeschoolers.org
SUMMARY:Drama Play
DESCRIPTION:
URL:https://communityhomeschoolers.org/event/drama-play/
LOCATION:Conestoga Mennonite Church
CATEGORIES:Learning Group,Volume
END:VEVENT
BEGIN:VEVENT
DTSTART;TZID=America/New_York:20220126T000000
DTEND;TZID=America/New_York:20220126T235959
DTSTAMP:20260418T211259
CREATED:20221124T195602Z
LAST-MODIFIED:20221124T195602Z
UID:346-1643155200-1643241599@communityhomeschoolers.org
SUMMARY:No Learning Group
DESCRIPTION:There is no regular learning group in January but students taking High School Language Arts and Science DO MEET.
URL:https://communityhomeschoolers.org/event/no-learning-group-4/
CATEGORIES:Learning Group
END:VEVENT
BEGIN:VEVENT
DTSTART;TZID=America/New_York:20220119T000000
DTEND;TZID=America/New_York:20220119T235959
DTSTAMP:20260418T211259
CREATED:20221124T195602Z
LAST-MODIFIED:20221124T195602Z
UID:345-1642550400-1642636799@communityhomeschoolers.org
SUMMARY:No Learning Group
DESCRIPTION:There is no regular learning group in January but students taking High School Language Arts and Science DO MEET.
URL:https://communityhomeschoolers.org/event/no-learning-group-3/
CATEGORIES:Learning Group
END:VEVENT
BEGIN:VEVENT
DTSTART;TZID=America/New_York:20220112T000000
DTEND;TZID=America/New_York:20220112T235959
DTSTAMP:20260418T211259
CREATED:20221124T195546Z
LAST-MODIFIED:20221124T195546Z
UID:344-1641945600-1642031999@communityhomeschoolers.org
SUMMARY:No Learning Group
DESCRIPTION:There is no regular learning group in January but students taking High School Language Arts and Science DO MEET.
URL:https://communityhomeschoolers.org/event/no-learning-group-2/
CATEGORIES:Learning Group
END:VEVENT
BEGIN:VEVENT
DTSTART;TZID=America/New_York:20220105T000000
DTEND;TZID=America/New_York:20220106T235959
DTSTAMP:20260418T211259
CREATED:20221124T195247Z
LAST-MODIFIED:20221124T195247Z
UID:281-1641340800-1641513599@communityhomeschoolers.org
SUMMARY:Great Wolf Lodge
DESCRIPTION:
URL:https://communityhomeschoolers.org/event/great-wolf-lodge/
LOCATION:Great Wolf Lodge
CATEGORIES:Learning Group,Volume
END:VEVENT
BEGIN:VEVENT
DTSTART;TZID=America/New_York:20211225T000000
DTEND;TZID=America/New_York:20211225T235959
DTSTAMP:20260418T211259
CREATED:20221124T195546Z
LAST-MODIFIED:20221124T195546Z
UID:343-1640390400-1640476799@communityhomeschoolers.org
SUMMARY:Christmas
DESCRIPTION:
URL:https://communityhomeschoolers.org/event/christmas/
CATEGORIES:Learning Group,Volume
END:VEVENT
BEGIN:VEVENT
DTSTART;TZID=America/New_York:20211216T000000
DTEND;TZID=America/New_York:20220104T235959
DTSTAMP:20260418T211259
CREATED:20221124T195546Z
LAST-MODIFIED:20221124T195546Z
UID:342-1639612800-1641340799@communityhomeschoolers.org
SUMMARY:Christmas Break
DESCRIPTION:
URL:https://communityhomeschoolers.org/event/christmas-break/
CATEGORIES:Learning Group,Volume
END:VEVENT
BEGIN:VEVENT
DTSTART;TZID=America/New_York:20211125T000000
DTEND;TZID=America/New_York:20211125T235959
DTSTAMP:20260418T211259
CREATED:20221124T195546Z
LAST-MODIFIED:20221124T195546Z
UID:341-1637798400-1637884799@communityhomeschoolers.org
SUMMARY:Thanksgiving
DESCRIPTION:
URL:https://communityhomeschoolers.org/event/thanksgiving/
CATEGORIES:Learning Group,Volume
END:VEVENT
BEGIN:VEVENT
DTSTART;TZID=America/New_York:20211124T000000
DTEND;TZID=America/New_York:20211124T235959
DTSTAMP:20260418T211259
CREATED:20221124T195546Z
LAST-MODIFIED:20221124T195546Z
UID:340-1637712000-1637798399@communityhomeschoolers.org
SUMMARY:No Learning Group
DESCRIPTION:
URL:https://communityhomeschoolers.org/event/no-learning-group/
LOCATION:Conestoga Mennonite Church
CATEGORIES:Learning Group,Volume
END:VEVENT
BEGIN:VEVENT
DTSTART;TZID=America/New_York:20210908T103000
DTEND;TZID=America/New_York:20210908T143000
DTSTAMP:20260418T211259
CREATED:20221124T195247Z
LAST-MODIFIED:20221124T195247Z
UID:280-1631097000-1631111400@communityhomeschoolers.org
SUMMARY:Back to School Picnic
DESCRIPTION:
URL:https://communityhomeschoolers.org/event/back-to-school-picnic/
LOCATION:Poole Forge
CATEGORIES:Learning Group,Volume
END:VEVENT
BEGIN:VEVENT
DTSTART;TZID=America/New_York:20260418T211259
DTEND;TZID=America/New_York:20260418T211259
DTSTAMP:20260418T211259
CREATED:20230812T164545Z
LAST-MODIFIED:20230812T164545Z
UID:537-0-0@communityhomeschoolers.org
SUMMARY:Back to School Picnic
DESCRIPTION:
URL:https://communityhomeschoolers.org/event/back-to-school-picnic-3/
LOCATION:Poole Forge
CATEGORIES:Learning Group,Volume
END:VEVENT
BEGIN:VEVENT
DTSTART;TZID=America/New_York:20260418T211259
DTEND;TZID=America/New_York:20260418T211259
DTSTAMP:20260418T211259
CREATED:20230812T164544Z
LAST-MODIFIED:20230812T164544Z
UID:535-0-0@communityhomeschoolers.org
SUMMARY:Back to School Night (Teachers)
DESCRIPTION:
URL:https://communityhomeschoolers.org/event/back-to-school-night-teachers/
LOCATION:Conestoga Mennonite Church
CATEGORIES:Learning Group,Volume
END:VEVENT
BEGIN:VEVENT
DTSTART;TZID=America/New_York:20260418T211259
DTEND;TZID=America/New_York:20260418T211259
DTSTAMP:20260418T211259
CREATED:20230812T164544Z
LAST-MODIFIED:20230812T164544Z
UID:536-0-0@communityhomeschoolers.org
SUMMARY:Back to School Night (Parents)
DESCRIPTION:
URL:https://communityhomeschoolers.org/event/back-to-school-night-parents/
LOCATION:Conestoga Mennonite Church
CATEGORIES:Learning Group,Volume
END:VEVENT
BEGIN:VEVENT
DTSTART;TZID=America/New_York:20260418T211259
DTEND;TZID=America/New_York:20260418T211259
DTSTAMP:20260418T211259
CREATED:20221124T200608Z
LAST-MODIFIED:20230812T164835Z
UID:399-0-0@communityhomeschoolers.org
SUMMARY:Learning Group Week 19
DESCRIPTION:
URL:https://communityhomeschoolers.org/event/learning-group-week-19-2/
LOCATION:Conestoga Mennonite Church
CATEGORIES:Learning Group
END:VEVENT
BEGIN:VEVENT
DTSTART;TZID=America/New_York:20260418T211259
DTEND;TZID=America/New_York:20260418T211259
DTSTAMP:20260418T211259
CREATED:20221124T200608Z
LAST-MODIFIED:20230812T164835Z
UID:400-0-0@communityhomeschoolers.org
SUMMARY:Learning Group Week 20
DESCRIPTION:
URL:https://communityhomeschoolers.org/event/learning-group-week-20-2/
LOCATION:Conestoga Mennonite Church
CATEGORIES:Learning Group
END:VEVENT
BEGIN:VEVENT
DTSTART;TZID=America/New_York:20260418T211259
DTEND;TZID=America/New_York:20260418T211259
DTSTAMP:20260418T211259
CREATED:20221124T200607Z
LAST-MODIFIED:20230812T164835Z
UID:397-0-0@communityhomeschoolers.org
SUMMARY:Learning Group Week 17
DESCRIPTION:End of LG Q4
URL:https://communityhomeschoolers.org/event/learning-group-week-17-2/
LOCATION:Conestoga Mennonite Church
CATEGORIES:Learning Group
END:VEVENT
BEGIN:VEVENT
DTSTART;TZID=America/New_York:20260418T211259
DTEND;TZID=America/New_York:20260418T211259
DTSTAMP:20260418T211259
CREATED:20221124T200607Z
LAST-MODIFIED:20230812T164835Z
UID:398-0-0@communityhomeschoolers.org
SUMMARY:Learning Group Week 18
DESCRIPTION:
URL:https://communityhomeschoolers.org/event/learning-group-week-18-2/
LOCATION:Conestoga Mennonite Church
CATEGORIES:Learning Group
END:VEVENT
BEGIN:VEVENT
DTSTART;TZID=America/New_York:20260418T211259
DTEND;TZID=America/New_York:20260418T211259
DTSTAMP:20260418T211259
CREATED:20221124T200607Z
LAST-MODIFIED:20230812T164834Z
UID:396-0-0@communityhomeschoolers.org
SUMMARY:Learning Group Week 16
DESCRIPTION:
URL:https://communityhomeschoolers.org/event/learning-group-week-16-2/
LOCATION:Conestoga Mennonite Church
CATEGORIES:Learning Group
END:VEVENT
BEGIN:VEVENT
DTSTART;TZID=America/New_York:20260418T211259
DTEND;TZID=America/New_York:20260418T211259
DTSTAMP:20260418T211259
CREATED:20221124T200553Z
LAST-MODIFIED:20230812T164834Z
UID:393-0-0@communityhomeschoolers.org
SUMMARY:Learning Group Week 13
DESCRIPTION:
URL:https://communityhomeschoolers.org/event/learning-group-week-13-2/
LOCATION:Conestoga Mennonite Church
CATEGORIES:Learning Group
END:VEVENT
BEGIN:VEVENT
DTSTART;TZID=America/New_York:20260418T211259
DTEND;TZID=America/New_York:20260418T211259
DTSTAMP:20260418T211259
CREATED:20221124T200553Z
LAST-MODIFIED:20230812T164834Z
UID:394-0-0@communityhomeschoolers.org
SUMMARY:Learning Group Week 14
DESCRIPTION:
URL:https://communityhomeschoolers.org/event/learning-group-week-14-2/
LOCATION:Conestoga Mennonite Church
CATEGORIES:Learning Group
END:VEVENT
BEGIN:VEVENT
DTSTART;TZID=America/New_York:20260418T211259
DTEND;TZID=America/New_York:20260418T211259
DTSTAMP:20260418T211259
CREATED:20221124T200553Z
LAST-MODIFIED:20230812T164834Z
UID:395-0-0@communityhomeschoolers.org
SUMMARY:Learning Group Week 15
DESCRIPTION:
URL:https://communityhomeschoolers.org/event/learning-group-week-15-2/
LOCATION:Conestoga Mennonite Church
CATEGORIES:Learning Group
END:VEVENT
BEGIN:VEVENT
DTSTART;TZID=America/New_York:20260418T211259
DTEND;TZID=America/New_York:20260418T211259
DTSTAMP:20260418T211259
CREATED:20221124T200552Z
LAST-MODIFIED:20230812T164716Z
UID:391-0-0@communityhomeschoolers.org
SUMMARY:Learning Group Week 11
DESCRIPTION:
URL:https://communityhomeschoolers.org/event/learning-group-week-11-2/
LOCATION:Conestoga Mennonite Church
CATEGORIES:Learning Group
END:VEVENT
BEGIN:VEVENT
DTSTART;TZID=America/New_York:20260418T211259
DTEND;TZID=America/New_York:20260418T211259
DTSTAMP:20260418T211259
CREATED:20221124T200552Z
LAST-MODIFIED:20230812T164834Z
UID:392-0-0@communityhomeschoolers.org
SUMMARY:Learning Group Week 12
DESCRIPTION:End of LG Q3
URL:https://communityhomeschoolers.org/event/learning-group-week-12-2/
LOCATION:Conestoga Mennonite Church
CATEGORIES:Learning Group
END:VEVENT
BEGIN:VEVENT
DTSTART;TZID=America/New_York:20260418T211259
DTEND;TZID=America/New_York:20260418T211259
DTSTAMP:20260418T211259
CREATED:20221124T200427Z
LAST-MODIFIED:20230812T164716Z
UID:389-0-0@communityhomeschoolers.org
SUMMARY:Learning Group Week 9
DESCRIPTION:
URL:https://communityhomeschoolers.org/event/learning-group-week-9-2/
LOCATION:Conestoga Mennonite Church
CATEGORIES:Learning Group
END:VEVENT
BEGIN:VEVENT
DTSTART;TZID=America/New_York:20260418T211259
DTEND;TZID=America/New_York:20260418T211259
DTSTAMP:20260418T211259
CREATED:20221124T200427Z
LAST-MODIFIED:20230812T164716Z
UID:390-0-0@communityhomeschoolers.org
SUMMARY:Learning Group Week 10
DESCRIPTION:End of LG Q2
URL:https://communityhomeschoolers.org/event/learning-group-week-10-2/
LOCATION:Conestoga Mennonite Church
CATEGORIES:Learning Group
END:VEVENT
END:VCALENDAR