BEGIN:VCALENDAR
VERSION:2.0
PRODID:-//Community Homeschoolers Learning Group - ECPv6.15.1.1//NONSGML v1.0//EN
CALSCALE:GREGORIAN
METHOD:PUBLISH
X-WR-CALNAME:Community Homeschoolers Learning Group
X-ORIGINAL-URL:https://communityhomeschoolers.org
X-WR-CALDESC:Events for Community Homeschoolers Learning Group
REFRESH-INTERVAL;VALUE=DURATION:PT1H
X-Robots-Tag:noindex
X-PUBLISHED-TTL:PT1H

BEGIN:VEVENT
DTSTART;TZID=America/New_York:20260421T235249
DTEND;TZID=America/New_York:20260421T235249
DTSTAMP:20260421T235249
CREATED:20221124T200553Z
LAST-MODIFIED:20230812T164834Z
UID:394-0-0@communityhomeschoolers.org
SUMMARY:Learning Group Week 14
DESCRIPTION:
URL:https://communityhomeschoolers.org/event/learning-group-week-14-2/
LOCATION:Conestoga Mennonite Church
CATEGORIES:Learning Group
END:VEVENT
BEGIN:VEVENT
DTSTART;TZID=America/New_York:20260421T235249
DTEND;TZID=America/New_York:20260421T235249
DTSTAMP:20260421T235249
CREATED:20221124T200553Z
LAST-MODIFIED:20230812T164834Z
UID:395-0-0@communityhomeschoolers.org
SUMMARY:Learning Group Week 15
DESCRIPTION:
URL:https://communityhomeschoolers.org/event/learning-group-week-15-2/
LOCATION:Conestoga Mennonite Church
CATEGORIES:Learning Group
END:VEVENT
BEGIN:VEVENT
DTSTART;TZID=America/New_York:20260421T235249
DTEND;TZID=America/New_York:20260421T235249
DTSTAMP:20260421T235249
CREATED:20221124T200552Z
LAST-MODIFIED:20230812T164716Z
UID:391-0-0@communityhomeschoolers.org
SUMMARY:Learning Group Week 11
DESCRIPTION:
URL:https://communityhomeschoolers.org/event/learning-group-week-11-2/
LOCATION:Conestoga Mennonite Church
CATEGORIES:Learning Group
END:VEVENT
BEGIN:VEVENT
DTSTART;TZID=America/New_York:20260421T235249
DTEND;TZID=America/New_York:20260421T235249
DTSTAMP:20260421T235249
CREATED:20221124T200552Z
LAST-MODIFIED:20230812T164834Z
UID:392-0-0@communityhomeschoolers.org
SUMMARY:Learning Group Week 12
DESCRIPTION:End of LG Q3
URL:https://communityhomeschoolers.org/event/learning-group-week-12-2/
LOCATION:Conestoga Mennonite Church
CATEGORIES:Learning Group
END:VEVENT
BEGIN:VEVENT
DTSTART;TZID=America/New_York:20260421T235249
DTEND;TZID=America/New_York:20260421T235249
DTSTAMP:20260421T235249
CREATED:20221124T200427Z
LAST-MODIFIED:20230812T164716Z
UID:389-0-0@communityhomeschoolers.org
SUMMARY:Learning Group Week 9
DESCRIPTION:
URL:https://communityhomeschoolers.org/event/learning-group-week-9-2/
LOCATION:Conestoga Mennonite Church
CATEGORIES:Learning Group
END:VEVENT
BEGIN:VEVENT
DTSTART;TZID=America/New_York:20260421T235249
DTEND;TZID=America/New_York:20260421T235249
DTSTAMP:20260421T235249
CREATED:20221124T200427Z
LAST-MODIFIED:20230812T164716Z
UID:390-0-0@communityhomeschoolers.org
SUMMARY:Learning Group Week 10
DESCRIPTION:End of LG Q2
URL:https://communityhomeschoolers.org/event/learning-group-week-10-2/
LOCATION:Conestoga Mennonite Church
CATEGORIES:Learning Group
END:VEVENT
BEGIN:VEVENT
DTSTART;TZID=America/New_York:20260421T235249
DTEND;TZID=America/New_York:20260421T235249
DTSTAMP:20260421T235249
CREATED:20221124T200426Z
LAST-MODIFIED:20230812T164702Z
UID:386-0-0@communityhomeschoolers.org
SUMMARY:Learning Group Week 6
DESCRIPTION:
URL:https://communityhomeschoolers.org/event/learning-group-week-6-2/
LOCATION:Conestoga Mennonite Church
CATEGORIES:Learning Group
END:VEVENT
BEGIN:VEVENT
DTSTART;TZID=America/New_York:20260421T235249
DTEND;TZID=America/New_York:20260421T235249
DTSTAMP:20260421T235249
CREATED:20221124T200426Z
LAST-MODIFIED:20230812T164716Z
UID:387-0-0@communityhomeschoolers.org
SUMMARY:Learning Group Week 7
DESCRIPTION:
URL:https://communityhomeschoolers.org/event/learning-group-week-7-2/
LOCATION:Conestoga Mennonite Church
CATEGORIES:Learning Group
END:VEVENT
BEGIN:VEVENT
DTSTART;TZID=America/New_York:20260421T235249
DTEND;TZID=America/New_York:20260421T235249
DTSTAMP:20260421T235249
CREATED:20221124T200426Z
LAST-MODIFIED:20230812T164716Z
UID:388-0-0@communityhomeschoolers.org
SUMMARY:Learning Group Week 8
DESCRIPTION:
URL:https://communityhomeschoolers.org/event/learning-group-week-8-2/
LOCATION:Conestoga Mennonite Church
CATEGORIES:Learning Group
END:VEVENT
BEGIN:VEVENT
DTSTART;TZID=America/New_York:20260421T235249
DTEND;TZID=America/New_York:20260421T235249
DTSTAMP:20260421T235249
CREATED:20221124T200412Z
LAST-MODIFIED:20230812T164702Z
UID:384-0-0@communityhomeschoolers.org
SUMMARY:Learning Group Week 4
DESCRIPTION:
URL:https://communityhomeschoolers.org/event/learning-group-week-4-2/
LOCATION:Conestoga Mennonite Church
CATEGORIES:Learning Group
END:VEVENT
BEGIN:VEVENT
DTSTART;TZID=America/New_York:20260421T235249
DTEND;TZID=America/New_York:20260421T235249
DTSTAMP:20260421T235249
CREATED:20221124T200412Z
LAST-MODIFIED:20230812T164702Z
UID:385-0-0@communityhomeschoolers.org
SUMMARY:Learning Group Week 5
DESCRIPTION:End of LG Q1
URL:https://communityhomeschoolers.org/event/learning-group-week-5-2/
LOCATION:Conestoga Mennonite Church
CATEGORIES:Learning Group
END:VEVENT
BEGIN:VEVENT
DTSTART;TZID=America/New_York:20260421T235249
DTEND;TZID=America/New_York:20260421T235249
DTSTAMP:20260421T235249
CREATED:20221124T200411Z
LAST-MODIFIED:20230812T164647Z
UID:381-0-0@communityhomeschoolers.org
SUMMARY:Learning Group Week 1
DESCRIPTION:
URL:https://communityhomeschoolers.org/event/learning-group-week-1-2/
LOCATION:Conestoga Mennonite Church
CATEGORIES:Learning Group
END:VEVENT
BEGIN:VEVENT
DTSTART;TZID=America/New_York:20260421T235249
DTEND;TZID=America/New_York:20260421T235249
DTSTAMP:20260421T235249
CREATED:20221124T200411Z
LAST-MODIFIED:20230812T164701Z
UID:382-0-0@communityhomeschoolers.org
SUMMARY:Learning Group Week 2
DESCRIPTION:
URL:https://communityhomeschoolers.org/event/learning-group-week-2-2/
LOCATION:Conestoga Mennonite Church
CATEGORIES:Learning Group
END:VEVENT
BEGIN:VEVENT
DTSTART;TZID=America/New_York:20260421T235249
DTEND;TZID=America/New_York:20260421T235249
DTSTAMP:20260421T235249
CREATED:20221124T200411Z
LAST-MODIFIED:20230812T164701Z
UID:383-0-0@communityhomeschoolers.org
SUMMARY:Learning Group Week 3
DESCRIPTION:
URL:https://communityhomeschoolers.org/event/learning-group-week-3-2/
LOCATION:Conestoga Mennonite Church
CATEGORIES:Learning Group
END:VEVENT
END:VCALENDAR