BEGIN:VCALENDAR
VERSION:2.0
PRODID:-//Community Homeschoolers Learning Group - ECPv6.15.1.1//NONSGML v1.0//EN
CALSCALE:GREGORIAN
METHOD:PUBLISH
X-WR-CALNAME:Community Homeschoolers Learning Group
X-ORIGINAL-URL:https://communityhomeschoolers.org
X-WR-CALDESC:Events for Community Homeschoolers Learning Group
REFRESH-INTERVAL;VALUE=DURATION:PT1H
X-Robots-Tag:noindex
X-PUBLISHED-TTL:PT1H
BEGIN:VTIMEZONE
TZID:America/New_York
BEGIN:DAYLIGHT
TZOFFSETFROM:-0500
TZOFFSETTO:-0400
TZNAME:EDT
DTSTART:20210314T070000
END:DAYLIGHT
BEGIN:STANDARD
TZOFFSETFROM:-0400
TZOFFSETTO:-0500
TZNAME:EST
DTSTART:20211107T060000
END:STANDARD
BEGIN:DAYLIGHT
TZOFFSETFROM:-0500
TZOFFSETTO:-0400
TZNAME:EDT
DTSTART:20220313T070000
END:DAYLIGHT
BEGIN:STANDARD
TZOFFSETFROM:-0400
TZOFFSETTO:-0500
TZNAME:EST
DTSTART:20221106T060000
END:STANDARD
END:VTIMEZONE
BEGIN:VEVENT
DTSTART;TZID=America/New_York:20220504T103000
DTEND;TZID=America/New_York:20220504T143000
DTSTAMP:20260421T220849
CREATED:20221124T195248Z
LAST-MODIFIED:20221124T195248Z
UID:285-1651660200-1651674600@communityhomeschoolers.org
SUMMARY:End of Year Picnic
DESCRIPTION:
URL:https://communityhomeschoolers.org/event/end-of-year-picnic/
LOCATION:Poole Forge
CATEGORIES:Learning Group,Volume
END:VEVENT
BEGIN:VEVENT
DTSTART;TZID=America/New_York:20220504T000000
DTEND;TZID=America/New_York:20220504T235959
DTSTAMP:20260421T220849
CREATED:20221124T195339Z
LAST-MODIFIED:20221124T195339Z
UID:317-1651622400-1651708799@communityhomeschoolers.org
SUMMARY:Volume Week 30
DESCRIPTION:
URL:https://communityhomeschoolers.org/event/volume-week-30/
LOCATION:Conestoga Mennonite Church
CATEGORIES:Volume
END:VEVENT
BEGIN:VEVENT
DTSTART;TZID=America/New_York:20220427T000000
DTEND;TZID=America/New_York:20220427T235959
DTSTAMP:20260421T220849
CREATED:20221124T195339Z
LAST-MODIFIED:20221124T195339Z
UID:316-1651017600-1651103999@communityhomeschoolers.org
SUMMARY:Volume Week 29
DESCRIPTION:
URL:https://communityhomeschoolers.org/event/volume-week-29/
LOCATION:Conestoga Mennonite Church
CATEGORIES:Volume
END:VEVENT
BEGIN:VEVENT
DTSTART;TZID=America/New_York:20220420T000000
DTEND;TZID=America/New_York:20220420T235959
DTSTAMP:20260421T220849
CREATED:20221124T195339Z
LAST-MODIFIED:20221124T195339Z
UID:315-1650412800-1650499199@communityhomeschoolers.org
SUMMARY:Volume Week 28
DESCRIPTION:
URL:https://communityhomeschoolers.org/event/volume-week-28/
LOCATION:Conestoga Mennonite Church
CATEGORIES:Volume
END:VEVENT
BEGIN:VEVENT
DTSTART;TZID=America/New_York:20220417T000000
DTEND;TZID=America/New_York:20220417T235959
DTSTAMP:20260421T220849
CREATED:20221124T195602Z
LAST-MODIFIED:20221124T195602Z
UID:347-1650153600-1650239999@communityhomeschoolers.org
SUMMARY:Easter
DESCRIPTION:
URL:https://communityhomeschoolers.org/event/easter/
CATEGORIES:Learning Group,Volume
END:VEVENT
BEGIN:VEVENT
DTSTART;TZID=America/New_York:20220413T000000
DTEND;TZID=America/New_York:20220413T235959
DTSTAMP:20260421T220849
CREATED:20221124T195334Z
LAST-MODIFIED:20221124T195334Z
UID:314-1649808000-1649894399@communityhomeschoolers.org
SUMMARY:Volume Week 27
DESCRIPTION:
URL:https://communityhomeschoolers.org/event/volume-week-27/
LOCATION:Conestoga Mennonite Church
CATEGORIES:Volume
END:VEVENT
BEGIN:VEVENT
DTSTART;TZID=America/New_York:20220409T190000
DTEND;TZID=America/New_York:20220409T190000
DTSTAMP:20260421T220849
CREATED:20221124T195247Z
LAST-MODIFIED:20221124T195247Z
UID:284-1649530800-1649530800@communityhomeschoolers.org
SUMMARY:Drama Play
DESCRIPTION:
URL:https://communityhomeschoolers.org/event/drama-play-3/
LOCATION:Conestoga Mennonite Church
CATEGORIES:Learning Group,Volume
END:VEVENT
BEGIN:VEVENT
DTSTART;TZID=America/New_York:20220409T140000
DTEND;TZID=America/New_York:20220409T140000
DTSTAMP:20260421T220849
CREATED:20221124T195247Z
LAST-MODIFIED:20221124T195247Z
UID:283-1649512800-1649512800@communityhomeschoolers.org
SUMMARY:Drama Play
DESCRIPTION:
URL:https://communityhomeschoolers.org/event/drama-play-2/
LOCATION:Conestoga Mennonite Church
CATEGORIES:Learning Group,Volume
END:VEVENT
BEGIN:VEVENT
DTSTART;TZID=America/New_York:20220408T190000
DTEND;TZID=America/New_York:20220408T210000
DTSTAMP:20260421T220849
CREATED:20221124T195247Z
LAST-MODIFIED:20221124T195247Z
UID:282-1649444400-1649451600@communityhomeschoolers.org
SUMMARY:Drama Play
DESCRIPTION:
URL:https://communityhomeschoolers.org/event/drama-play/
LOCATION:Conestoga Mennonite Church
CATEGORIES:Learning Group,Volume
END:VEVENT
BEGIN:VEVENT
DTSTART;TZID=America/New_York:20220406T000000
DTEND;TZID=America/New_York:20220406T235959
DTSTAMP:20260421T220849
CREATED:20221124T195334Z
LAST-MODIFIED:20221124T195334Z
UID:313-1649203200-1649289599@communityhomeschoolers.org
SUMMARY:Volume Week 26
DESCRIPTION:
URL:https://communityhomeschoolers.org/event/volume-week-26/
LOCATION:Conestoga Mennonite Church
CATEGORIES:Volume
END:VEVENT
BEGIN:VEVENT
DTSTART;TZID=America/New_York:20220330T000000
DTEND;TZID=America/New_York:20220330T235959
DTSTAMP:20260421T220849
CREATED:20221124T195334Z
LAST-MODIFIED:20221124T195334Z
UID:312-1648598400-1648684799@communityhomeschoolers.org
SUMMARY:Volume Week 25
DESCRIPTION:
URL:https://communityhomeschoolers.org/event/volume-week-25/
LOCATION:Conestoga Mennonite Church
CATEGORIES:Volume
END:VEVENT
BEGIN:VEVENT
DTSTART;TZID=America/New_York:20220323T000000
DTEND;TZID=America/New_York:20220323T235959
DTSTAMP:20260421T220849
CREATED:20221124T195333Z
LAST-MODIFIED:20221124T195333Z
UID:311-1647993600-1648079999@communityhomeschoolers.org
SUMMARY:Volume Week 24
DESCRIPTION:
URL:https://communityhomeschoolers.org/event/volume-week-24/
LOCATION:Conestoga Mennonite Church
CATEGORIES:Volume
END:VEVENT
BEGIN:VEVENT
DTSTART;TZID=America/New_York:20220316T000000
DTEND;TZID=America/New_York:20220316T235959
DTSTAMP:20260421T220849
CREATED:20221124T195333Z
LAST-MODIFIED:20221124T195333Z
UID:310-1647388800-1647475199@communityhomeschoolers.org
SUMMARY:Volume Week 23
DESCRIPTION:
URL:https://communityhomeschoolers.org/event/volume-week-23/
LOCATION:Conestoga Mennonite Church
CATEGORIES:Volume
END:VEVENT
BEGIN:VEVENT
DTSTART;TZID=America/New_York:20220309T000000
DTEND;TZID=America/New_York:20220309T235959
DTSTAMP:20260421T220849
CREATED:20221124T195325Z
LAST-MODIFIED:20221124T195325Z
UID:309-1646784000-1646870399@communityhomeschoolers.org
SUMMARY:Volume Week 22
DESCRIPTION:
URL:https://communityhomeschoolers.org/event/volume-week-22/
LOCATION:Conestoga Mennonite Church
CATEGORIES:Volume
END:VEVENT
BEGIN:VEVENT
DTSTART;TZID=America/New_York:20220302T000000
DTEND;TZID=America/New_York:20220302T235959
DTSTAMP:20260421T220849
CREATED:20221124T195324Z
LAST-MODIFIED:20221124T195324Z
UID:308-1646179200-1646265599@communityhomeschoolers.org
SUMMARY:Volume Week 21
DESCRIPTION:
URL:https://communityhomeschoolers.org/event/volume-week-21/
LOCATION:Conestoga Mennonite Church
CATEGORIES:Volume
END:VEVENT
BEGIN:VEVENT
DTSTART;TZID=America/New_York:20220223T000000
DTEND;TZID=America/New_York:20220223T235959
DTSTAMP:20260421T220849
CREATED:20221124T195324Z
LAST-MODIFIED:20221124T195324Z
UID:307-1645574400-1645660799@communityhomeschoolers.org
SUMMARY:Volume Week 20
DESCRIPTION:
URL:https://communityhomeschoolers.org/event/volume-week-20/
LOCATION:Conestoga Mennonite Church
CATEGORIES:Volume
END:VEVENT
BEGIN:VEVENT
DTSTART;TZID=America/New_York:20220216T000000
DTEND;TZID=America/New_York:20220216T235959
DTSTAMP:20260421T220849
CREATED:20221124T195324Z
LAST-MODIFIED:20221124T195324Z
UID:306-1644969600-1645055999@communityhomeschoolers.org
SUMMARY:Volume Week 19
DESCRIPTION:
URL:https://communityhomeschoolers.org/event/volume-week-19/
LOCATION:Conestoga Mennonite Church
CATEGORIES:Volume
END:VEVENT
BEGIN:VEVENT
DTSTART;TZID=America/New_York:20220209T000000
DTEND;TZID=America/New_York:20220209T235959
DTSTAMP:20260421T220849
CREATED:20221124T195324Z
LAST-MODIFIED:20221124T195324Z
UID:305-1644364800-1644451199@communityhomeschoolers.org
SUMMARY:Volume Week 18
DESCRIPTION:
URL:https://communityhomeschoolers.org/event/volume-week-18/
LOCATION:Conestoga Mennonite Church
CATEGORIES:Volume
END:VEVENT
BEGIN:VEVENT
DTSTART;TZID=America/New_York:20220202T000000
DTEND;TZID=America/New_York:20220202T235959
DTSTAMP:20260421T220849
CREATED:20221124T195319Z
LAST-MODIFIED:20221124T195319Z
UID:304-1643760000-1643846399@communityhomeschoolers.org
SUMMARY:Volume Week 17
DESCRIPTION:
URL:https://communityhomeschoolers.org/event/volume-week-17/
LOCATION:Conestoga Mennonite Church
CATEGORIES:Volume
END:VEVENT
BEGIN:VEVENT
DTSTART;TZID=America/New_York:20220126T000000
DTEND;TZID=America/New_York:20220126T235959
DTSTAMP:20260421T220849
CREATED:20221124T195319Z
LAST-MODIFIED:20221124T195319Z
UID:303-1643155200-1643241599@communityhomeschoolers.org
SUMMARY:Volume Week 16
DESCRIPTION:Students taking High School Language Arts and Science DO MEET
URL:https://communityhomeschoolers.org/event/volume-week-16/
LOCATION:Conestoga Mennonite Church
CATEGORIES:Volume
END:VEVENT
BEGIN:VEVENT
DTSTART;TZID=America/New_York:20220119T000000
DTEND;TZID=America/New_York:20220119T235959
DTSTAMP:20260421T220849
CREATED:20221124T195319Z
LAST-MODIFIED:20221124T195319Z
UID:302-1642550400-1642636799@communityhomeschoolers.org
SUMMARY:Volume Week 15
DESCRIPTION:Students taking High School Language Arts and Science DO MEET
URL:https://communityhomeschoolers.org/event/volume-week-15/
LOCATION:Conestoga Mennonite Church
CATEGORIES:Volume
END:VEVENT
BEGIN:VEVENT
DTSTART;TZID=America/New_York:20220112T000000
DTEND;TZID=America/New_York:20220112T235959
DTSTAMP:20260421T220849
CREATED:20221124T195319Z
LAST-MODIFIED:20221124T195319Z
UID:301-1641945600-1642031999@communityhomeschoolers.org
SUMMARY:Volume Week 14
DESCRIPTION:Students taking High School Language Arts and Science DO MEET
URL:https://communityhomeschoolers.org/event/volume-week-14/
LOCATION:Conestoga Mennonite Church
CATEGORIES:Volume
END:VEVENT
BEGIN:VEVENT
DTSTART;TZID=America/New_York:20220105T000000
DTEND;TZID=America/New_York:20220106T235959
DTSTAMP:20260421T220849
CREATED:20221124T195247Z
LAST-MODIFIED:20221124T195247Z
UID:281-1641340800-1641513599@communityhomeschoolers.org
SUMMARY:Great Wolf Lodge
DESCRIPTION:
URL:https://communityhomeschoolers.org/event/great-wolf-lodge/
LOCATION:Great Wolf Lodge
CATEGORIES:Learning Group,Volume
END:VEVENT
BEGIN:VEVENT
DTSTART;TZID=America/New_York:20211225T000000
DTEND;TZID=America/New_York:20211225T235959
DTSTAMP:20260421T220849
CREATED:20221124T195546Z
LAST-MODIFIED:20221124T195546Z
UID:343-1640390400-1640476799@communityhomeschoolers.org
SUMMARY:Christmas
DESCRIPTION:
URL:https://communityhomeschoolers.org/event/christmas/
CATEGORIES:Learning Group,Volume
END:VEVENT
BEGIN:VEVENT
DTSTART;TZID=America/New_York:20211216T000000
DTEND;TZID=America/New_York:20220104T235959
DTSTAMP:20260421T220849
CREATED:20221124T195546Z
LAST-MODIFIED:20221124T195546Z
UID:342-1639612800-1641340799@communityhomeschoolers.org
SUMMARY:Christmas Break
DESCRIPTION:
URL:https://communityhomeschoolers.org/event/christmas-break/
CATEGORIES:Learning Group,Volume
END:VEVENT
BEGIN:VEVENT
DTSTART;TZID=America/New_York:20211215T000000
DTEND;TZID=America/New_York:20211215T235959
DTSTAMP:20260421T220849
CREATED:20221124T195318Z
LAST-MODIFIED:20221124T195318Z
UID:300-1639526400-1639612799@communityhomeschoolers.org
SUMMARY:Volume Week 13
DESCRIPTION:
URL:https://communityhomeschoolers.org/event/volume-week-13/
LOCATION:Conestoga Mennonite Church
CATEGORIES:Volume
END:VEVENT
BEGIN:VEVENT
DTSTART;TZID=America/New_York:20211208T000000
DTEND;TZID=America/New_York:20211208T235959
DTSTAMP:20260421T220849
CREATED:20221124T195310Z
LAST-MODIFIED:20221124T195310Z
UID:299-1638921600-1639007999@communityhomeschoolers.org
SUMMARY:Volume Week 12
DESCRIPTION:
URL:https://communityhomeschoolers.org/event/volume-week-12/
LOCATION:Conestoga Mennonite Church
CATEGORIES:Volume
END:VEVENT
BEGIN:VEVENT
DTSTART;TZID=America/New_York:20211201T000000
DTEND;TZID=America/New_York:20211201T235959
DTSTAMP:20260421T220849
CREATED:20221124T195309Z
LAST-MODIFIED:20221124T195309Z
UID:298-1638316800-1638403199@communityhomeschoolers.org
SUMMARY:Volume Week 11
DESCRIPTION:
URL:https://communityhomeschoolers.org/event/volume-week-11/
LOCATION:Conestoga Mennonite Church
CATEGORIES:Volume
END:VEVENT
BEGIN:VEVENT
DTSTART;TZID=America/New_York:20211125T000000
DTEND;TZID=America/New_York:20211125T235959
DTSTAMP:20260421T220849
CREATED:20221124T195546Z
LAST-MODIFIED:20221124T195546Z
UID:341-1637798400-1637884799@communityhomeschoolers.org
SUMMARY:Thanksgiving
DESCRIPTION:
URL:https://communityhomeschoolers.org/event/thanksgiving/
CATEGORIES:Learning Group,Volume
END:VEVENT
BEGIN:VEVENT
DTSTART;TZID=America/New_York:20211124T000000
DTEND;TZID=America/New_York:20211124T235959
DTSTAMP:20260421T220849
CREATED:20221124T195546Z
LAST-MODIFIED:20221124T195546Z
UID:340-1637712000-1637798399@communityhomeschoolers.org
SUMMARY:No Learning Group
DESCRIPTION:
URL:https://communityhomeschoolers.org/event/no-learning-group/
LOCATION:Conestoga Mennonite Church
CATEGORIES:Learning Group,Volume
END:VEVENT
END:VCALENDAR