BEGIN:VCALENDAR
VERSION:2.0
PRODID:-//Community Homeschoolers Learning Group - ECPv6.15.1.1//NONSGML v1.0//EN
CALSCALE:GREGORIAN
METHOD:PUBLISH
X-WR-CALNAME:Community Homeschoolers Learning Group
X-ORIGINAL-URL:https://communityhomeschoolers.org
X-WR-CALDESC:Events for Community Homeschoolers Learning Group
REFRESH-INTERVAL;VALUE=DURATION:PT1H
X-Robots-Tag:noindex
X-PUBLISHED-TTL:PT1H
BEGIN:VTIMEZONE
TZID:America/New_York
BEGIN:DAYLIGHT
TZOFFSETFROM:-0500
TZOFFSETTO:-0400
TZNAME:EDT
DTSTART:20230312T070000
END:DAYLIGHT
BEGIN:STANDARD
TZOFFSETFROM:-0400
TZOFFSETTO:-0500
TZNAME:EST
DTSTART:20231105T060000
END:STANDARD
BEGIN:DAYLIGHT
TZOFFSETFROM:-0500
TZOFFSETTO:-0400
TZNAME:EDT
DTSTART:20240310T070000
END:DAYLIGHT
BEGIN:STANDARD
TZOFFSETFROM:-0400
TZOFFSETTO:-0500
TZNAME:EST
DTSTART:20241103T060000
END:STANDARD
END:VTIMEZONE
BEGIN:VEVENT
DTSTART;TZID=America/New_York:20240515T000000
DTEND;TZID=America/New_York:20240515T235959
DTSTAMP:20260421T110021
CREATED:20230812T165552Z
LAST-MODIFIED:20230812T165552Z
UID:615-1715731200-1715817599@communityhomeschoolers.org
SUMMARY:Volume Week 25
DESCRIPTION:End of Volume Q4
URL:https://communityhomeschoolers.org/event/volume-week-25-4/
LOCATION:Conestoga Mennonite Church
CATEGORIES:Volume
END:VEVENT
BEGIN:VEVENT
DTSTART;TZID=America/New_York:20240508T000000
DTEND;TZID=America/New_York:20240508T235959
DTSTAMP:20260421T110021
CREATED:20230812T165551Z
LAST-MODIFIED:20230812T165551Z
UID:614-1715126400-1715212799@communityhomeschoolers.org
SUMMARY:Volume Week 24
DESCRIPTION:
URL:https://communityhomeschoolers.org/event/volume-week-24-4/
LOCATION:Conestoga Mennonite Church
CATEGORIES:Volume
END:VEVENT
BEGIN:VEVENT
DTSTART;TZID=America/New_York:20240501T103000
DTEND;TZID=America/New_York:20240501T143000
DTSTAMP:20260421T110021
CREATED:20230812T164851Z
LAST-MODIFIED:20230812T171111Z
UID:571-1714559400-1714573800@communityhomeschoolers.org
SUMMARY:End of Year Picnic
DESCRIPTION:
URL:https://communityhomeschoolers.org/event/end-of-year-picnic-2/
LOCATION:Poole Forge
CATEGORIES:Learning Group,Volume
END:VEVENT
BEGIN:VEVENT
DTSTART;TZID=America/New_York:20240424T000000
DTEND;TZID=America/New_York:20240424T235959
DTSTAMP:20260421T110021
CREATED:20230812T171111Z
LAST-MODIFIED:20230812T171111Z
UID:639-1713916800-1714003199@communityhomeschoolers.org
SUMMARY:Elementary Musical
DESCRIPTION:
URL:https://communityhomeschoolers.org/event/elementary-musical-2/
LOCATION:Conestoga Mennonite Church
CATEGORIES:Learning Group
END:VEVENT
BEGIN:VEVENT
DTSTART;TZID=America/New_York:20240424T000000
DTEND;TZID=America/New_York:20240424T235959
DTSTAMP:20260421T110021
CREATED:20230812T170352Z
LAST-MODIFIED:20230813T223957Z
UID:636-1713916800-1714003199@communityhomeschoolers.org
SUMMARY:Learning Group Week 20
DESCRIPTION:
URL:https://communityhomeschoolers.org/event/learning-group-week-20-5/
LOCATION:Conestoga Mennonite Church
CATEGORIES:Learning Group
END:VEVENT
BEGIN:VEVENT
DTSTART;TZID=America/New_York:20240424T000000
DTEND;TZID=America/New_York:20240424T235959
DTSTAMP:20260421T110021
CREATED:20230812T165551Z
LAST-MODIFIED:20230812T165551Z
UID:613-1713916800-1714003199@communityhomeschoolers.org
SUMMARY:Volume Week 23
DESCRIPTION:
URL:https://communityhomeschoolers.org/event/volume-week-23-4/
LOCATION:Conestoga Mennonite Church
CATEGORIES:Volume
END:VEVENT
BEGIN:VEVENT
DTSTART;TZID=America/New_York:20240417T000000
DTEND;TZID=America/New_York:20240417T235959
DTSTAMP:20260421T110021
CREATED:20230812T170352Z
LAST-MODIFIED:20230813T224006Z
UID:635-1713312000-1713398399@communityhomeschoolers.org
SUMMARY:Learning Group Week 19
DESCRIPTION:
URL:https://communityhomeschoolers.org/event/learning-group-week-19-5/
LOCATION:Conestoga Mennonite Church
CATEGORIES:Learning Group
END:VEVENT
BEGIN:VEVENT
DTSTART;TZID=America/New_York:20240417T000000
DTEND;TZID=America/New_York:20240417T235959
DTSTAMP:20260421T110021
CREATED:20230812T165352Z
LAST-MODIFIED:20230812T165352Z
UID:612-1713312000-1713398399@communityhomeschoolers.org
SUMMARY:Volume Week 22
DESCRIPTION:
URL:https://communityhomeschoolers.org/event/volume-week-22-4/
LOCATION:Conestoga Mennonite Church
CATEGORIES:Volume
END:VEVENT
BEGIN:VEVENT
DTSTART;TZID=America/New_York:20240410T000000
DTEND;TZID=America/New_York:20240410T235959
DTSTAMP:20260421T110021
CREATED:20230812T170351Z
LAST-MODIFIED:20230813T224019Z
UID:634-1712707200-1712793599@communityhomeschoolers.org
SUMMARY:Learning Group Week 18
DESCRIPTION:
URL:https://communityhomeschoolers.org/event/learning-group-week-18-5/
LOCATION:Conestoga Mennonite Church
CATEGORIES:Learning Group
END:VEVENT
BEGIN:VEVENT
DTSTART;TZID=America/New_York:20240410T000000
DTEND;TZID=America/New_York:20240410T235959
DTSTAMP:20260421T110021
CREATED:20230812T165352Z
LAST-MODIFIED:20230812T165352Z
UID:611-1712707200-1712793599@communityhomeschoolers.org
SUMMARY:Volume Week 21
DESCRIPTION:
URL:https://communityhomeschoolers.org/event/volume-week-21-4/
LOCATION:Conestoga Mennonite Church
CATEGORIES:Volume
END:VEVENT
BEGIN:VEVENT
DTSTART;TZID=America/New_York:20240327T000000
DTEND;TZID=America/New_York:20240327T235959
DTSTAMP:20260421T110021
CREATED:20230812T170351Z
LAST-MODIFIED:20230813T224031Z
UID:633-1711497600-1711583999@communityhomeschoolers.org
SUMMARY:Learning Group Week 17
DESCRIPTION:End of LG Q4
URL:https://communityhomeschoolers.org/event/learning-group-week-17-5/
LOCATION:Conestoga Mennonite Church
CATEGORIES:Learning Group
END:VEVENT
BEGIN:VEVENT
DTSTART;TZID=America/New_York:20240327T000000
DTEND;TZID=America/New_York:20240327T235959
DTSTAMP:20260421T110021
CREATED:20230812T165351Z
LAST-MODIFIED:20230812T165351Z
UID:610-1711497600-1711583999@communityhomeschoolers.org
SUMMARY:Volume Week 20
DESCRIPTION:
URL:https://communityhomeschoolers.org/event/volume-week-20-4/
LOCATION:Conestoga Mennonite Church
CATEGORIES:Volume
END:VEVENT
BEGIN:VEVENT
DTSTART;TZID=America/New_York:20240320T000000
DTEND;TZID=America/New_York:20240320T235959
DTSTAMP:20260421T110021
CREATED:20230812T170152Z
LAST-MODIFIED:20230813T224039Z
UID:632-1710892800-1710979199@communityhomeschoolers.org
SUMMARY:Learning Group Week 16
DESCRIPTION:
URL:https://communityhomeschoolers.org/event/learning-group-week-16-5/
LOCATION:Conestoga Mennonite Church
CATEGORIES:Learning Group
END:VEVENT
BEGIN:VEVENT
DTSTART;TZID=America/New_York:20240320T000000
DTEND;TZID=America/New_York:20240320T235959
DTSTAMP:20260421T110021
CREATED:20230812T165351Z
LAST-MODIFIED:20230812T165351Z
UID:609-1710892800-1710979199@communityhomeschoolers.org
SUMMARY:Volume Week 19
DESCRIPTION:End of Volume Q3
URL:https://communityhomeschoolers.org/event/volume-week-19-4/
LOCATION:Conestoga Mennonite Church
CATEGORIES:Volume
END:VEVENT
BEGIN:VEVENT
DTSTART;TZID=America/New_York:20240313T000000
DTEND;TZID=America/New_York:20240313T235959
DTSTAMP:20260421T110021
CREATED:20230812T170152Z
LAST-MODIFIED:20230813T224050Z
UID:631-1710288000-1710374399@communityhomeschoolers.org
SUMMARY:Learning Group Week 15
DESCRIPTION:
URL:https://communityhomeschoolers.org/event/learning-group-week-15-5/
LOCATION:Conestoga Mennonite Church
CATEGORIES:Learning Group
END:VEVENT
BEGIN:VEVENT
DTSTART;TZID=America/New_York:20240313T000000
DTEND;TZID=America/New_York:20240313T235959
DTSTAMP:20260421T110021
CREATED:20230812T165351Z
LAST-MODIFIED:20230812T165351Z
UID:608-1710288000-1710374399@communityhomeschoolers.org
SUMMARY:Volume Week 18
DESCRIPTION:
URL:https://communityhomeschoolers.org/event/volume-week-18-4/
LOCATION:Conestoga Mennonite Church
CATEGORIES:Volume
END:VEVENT
BEGIN:VEVENT
DTSTART;TZID=America/New_York:20240228T000000
DTEND;TZID=America/New_York:20240228T235959
DTSTAMP:20260421T110021
CREATED:20230812T170151Z
LAST-MODIFIED:20230813T224108Z
UID:630-1709078400-1709164799@communityhomeschoolers.org
SUMMARY:Learning Group Week 14
DESCRIPTION:
URL:https://communityhomeschoolers.org/event/learning-group-week-14-5/
LOCATION:Conestoga Mennonite Church
CATEGORIES:Learning Group
END:VEVENT
BEGIN:VEVENT
DTSTART;TZID=America/New_York:20240228T000000
DTEND;TZID=America/New_York:20240228T235959
DTSTAMP:20260421T110021
CREATED:20230812T165337Z
LAST-MODIFIED:20230812T165337Z
UID:607-1709078400-1709164799@communityhomeschoolers.org
SUMMARY:Volume Week 17
DESCRIPTION:
URL:https://communityhomeschoolers.org/event/volume-week-17-4/
LOCATION:Conestoga Mennonite Church
CATEGORIES:Volume
END:VEVENT
BEGIN:VEVENT
DTSTART;TZID=America/New_York:20240221T000000
DTEND;TZID=America/New_York:20240221T235959
DTSTAMP:20260421T110021
CREATED:20230812T170151Z
LAST-MODIFIED:20230813T224117Z
UID:629-1708473600-1708559999@communityhomeschoolers.org
SUMMARY:Learning Group Week 13
DESCRIPTION:
URL:https://communityhomeschoolers.org/event/learning-group-week-13-5/
LOCATION:Conestoga Mennonite Church
CATEGORIES:Learning Group
END:VEVENT
BEGIN:VEVENT
DTSTART;TZID=America/New_York:20240221T000000
DTEND;TZID=America/New_York:20240221T235959
DTSTAMP:20260421T110021
CREATED:20230812T165336Z
LAST-MODIFIED:20230812T165336Z
UID:606-1708473600-1708559999@communityhomeschoolers.org
SUMMARY:Volume Week 16
DESCRIPTION:
URL:https://communityhomeschoolers.org/event/volume-week-16-4/
LOCATION:Conestoga Mennonite Church
CATEGORIES:Volume
END:VEVENT
BEGIN:VEVENT
DTSTART;TZID=America/New_York:20240214T000000
DTEND;TZID=America/New_York:20240214T235959
DTSTAMP:20260421T110021
CREATED:20230812T170151Z
LAST-MODIFIED:20230813T224127Z
UID:628-1707868800-1707955199@communityhomeschoolers.org
SUMMARY:Learning Group Week 12
DESCRIPTION:End of LG Q3
URL:https://communityhomeschoolers.org/event/learning-group-week-12-5/
LOCATION:Conestoga Mennonite Church
CATEGORIES:Learning Group
END:VEVENT
BEGIN:VEVENT
DTSTART;TZID=America/New_York:20240214T000000
DTEND;TZID=America/New_York:20240214T235959
DTSTAMP:20260421T110021
CREATED:20230812T165336Z
LAST-MODIFIED:20230812T165336Z
UID:605-1707868800-1707955199@communityhomeschoolers.org
SUMMARY:Volume Week 15
DESCRIPTION:
URL:https://communityhomeschoolers.org/event/volume-week-15-4/
LOCATION:Conestoga Mennonite Church
CATEGORIES:Volume
END:VEVENT
BEGIN:VEVENT
DTSTART;TZID=America/New_York:20240131T000000
DTEND;TZID=America/New_York:20240131T235959
DTSTAMP:20260421T110021
CREATED:20230812T165336Z
LAST-MODIFIED:20230812T165336Z
UID:604-1706659200-1706745599@communityhomeschoolers.org
SUMMARY:Volume Week 14
DESCRIPTION:
URL:https://communityhomeschoolers.org/event/volume-week-14-4/
LOCATION:Conestoga Mennonite Church
CATEGORIES:Volume
END:VEVENT
BEGIN:VEVENT
DTSTART;TZID=America/New_York:20240124T000000
DTEND;TZID=America/New_York:20240124T235959
DTSTAMP:20260421T110021
CREATED:20230812T165336Z
LAST-MODIFIED:20230812T165336Z
UID:603-1706054400-1706140799@communityhomeschoolers.org
SUMMARY:Volume Week 13
DESCRIPTION:End of Volume Q2
URL:https://communityhomeschoolers.org/event/volume-week-13-4/
LOCATION:Conestoga Mennonite Church
CATEGORIES:Volume
END:VEVENT
BEGIN:VEVENT
DTSTART;TZID=America/New_York:20240117T000000
DTEND;TZID=America/New_York:20240117T235959
DTSTAMP:20260421T110021
CREATED:20230812T165251Z
LAST-MODIFIED:20230812T165251Z
UID:602-1705449600-1705535999@communityhomeschoolers.org
SUMMARY:Volume Week 12
DESCRIPTION:
URL:https://communityhomeschoolers.org/event/volume-week-12-4/
LOCATION:Conestoga Mennonite Church
CATEGORIES:Volume
END:VEVENT
BEGIN:VEVENT
DTSTART;TZID=America/New_York:20231225T000000
DTEND;TZID=America/New_York:20231225T235959
DTSTAMP:20260421T110021
CREATED:20230812T171111Z
LAST-MODIFIED:20230812T171111Z
UID:638-1703462400-1703548799@communityhomeschoolers.org
SUMMARY:Christmas
DESCRIPTION:
URL:https://communityhomeschoolers.org/event/christmas-4/
CATEGORIES:Learning Group,Volume
END:VEVENT
BEGIN:VEVENT
DTSTART;TZID=America/New_York:20231220T000000
DTEND;TZID=America/New_York:20231220T235959
DTSTAMP:20260421T110021
CREATED:20230812T165952Z
LAST-MODIFIED:20230813T224135Z
UID:627-1703030400-1703116799@communityhomeschoolers.org
SUMMARY:Learning Group Week 11
DESCRIPTION:
URL:https://communityhomeschoolers.org/event/learning-group-week-11-5/
LOCATION:Conestoga Mennonite Church
CATEGORIES:Learning Group
END:VEVENT
BEGIN:VEVENT
DTSTART;TZID=America/New_York:20231220T000000
DTEND;TZID=America/New_York:20231220T235959
DTSTAMP:20260421T110021
CREATED:20230812T165251Z
LAST-MODIFIED:20230812T165251Z
UID:601-1703030400-1703116799@communityhomeschoolers.org
SUMMARY:Volume Week 11
DESCRIPTION:
URL:https://communityhomeschoolers.org/event/volume-week-11-4/
LOCATION:Conestoga Mennonite Church
CATEGORIES:Volume
END:VEVENT
BEGIN:VEVENT
DTSTART;TZID=America/New_York:20231213T000000
DTEND;TZID=America/New_York:20231213T235959
DTSTAMP:20260421T110021
CREATED:20230812T165952Z
LAST-MODIFIED:20230813T224200Z
UID:626-1702425600-1702511999@communityhomeschoolers.org
SUMMARY:Learning Group Week 10
DESCRIPTION:End of LG Q2
URL:https://communityhomeschoolers.org/event/learning-group-week-10-5/
LOCATION:Conestoga Mennonite Church
CATEGORIES:Learning Group
END:VEVENT
BEGIN:VEVENT
DTSTART;TZID=America/New_York:20231213T000000
DTEND;TZID=America/New_York:20231213T235959
DTSTAMP:20260421T110021
CREATED:20230812T165250Z
LAST-MODIFIED:20230812T165250Z
UID:600-1702425600-1702511999@communityhomeschoolers.org
SUMMARY:Volume Week 10
DESCRIPTION:
URL:https://communityhomeschoolers.org/event/volume-week-10-4/
LOCATION:Conestoga Mennonite Church
CATEGORIES:Volume
END:VEVENT
END:VCALENDAR