BEGIN:VCALENDAR
VERSION:2.0
PRODID:-//Community Homeschoolers Learning Group - ECPv6.15.1.1//NONSGML v1.0//EN
CALSCALE:GREGORIAN
METHOD:PUBLISH
X-ORIGINAL-URL:https://communityhomeschoolers.org
X-WR-CALDESC:Events for Community Homeschoolers Learning Group
REFRESH-INTERVAL;VALUE=DURATION:PT1H
X-Robots-Tag:noindex
X-PUBLISHED-TTL:PT1H
BEGIN:VTIMEZONE
TZID:America/New_York
BEGIN:DAYLIGHT
TZOFFSETFROM:-0500
TZOFFSETTO:-0400
TZNAME:EDT
DTSTART:20230312T070000
END:DAYLIGHT
BEGIN:STANDARD
TZOFFSETFROM:-0400
TZOFFSETTO:-0500
TZNAME:EST
DTSTART:20231105T060000
END:STANDARD
BEGIN:DAYLIGHT
TZOFFSETFROM:-0500
TZOFFSETTO:-0400
TZNAME:EDT
DTSTART:20240310T070000
END:DAYLIGHT
BEGIN:STANDARD
TZOFFSETFROM:-0400
TZOFFSETTO:-0500
TZNAME:EST
DTSTART:20241103T060000
END:STANDARD
END:VTIMEZONE
BEGIN:VEVENT
DTSTART;TZID=America/New_York:20240117T000000
DTEND;TZID=America/New_York:20240117T235959
DTSTAMP:20260421T133949
CREATED:20230812T165251Z
LAST-MODIFIED:20230812T165251Z
UID:602-1705449600-1705535999@communityhomeschoolers.org
SUMMARY:Volume Week 12
DESCRIPTION:
URL:https://communityhomeschoolers.org/event/volume-week-12-4/
LOCATION:Conestoga Mennonite Church
CATEGORIES:Volume
END:VEVENT
BEGIN:VEVENT
DTSTART;TZID=America/New_York:20231225T000000
DTEND;TZID=America/New_York:20231225T235959
DTSTAMP:20260421T133949
CREATED:20230812T171111Z
LAST-MODIFIED:20230812T171111Z
UID:638-1703462400-1703548799@communityhomeschoolers.org
SUMMARY:Christmas
DESCRIPTION:
URL:https://communityhomeschoolers.org/event/christmas-4/
CATEGORIES:Learning Group,Volume
END:VEVENT
BEGIN:VEVENT
DTSTART;TZID=America/New_York:20231220T000000
DTEND;TZID=America/New_York:20231220T235959
DTSTAMP:20260421T133949
CREATED:20230812T165952Z
LAST-MODIFIED:20230813T224135Z
UID:627-1703030400-1703116799@communityhomeschoolers.org
SUMMARY:Learning Group Week 11
DESCRIPTION:
URL:https://communityhomeschoolers.org/event/learning-group-week-11-5/
LOCATION:Conestoga Mennonite Church
CATEGORIES:Learning Group
END:VEVENT
BEGIN:VEVENT
DTSTART;TZID=America/New_York:20231220T000000
DTEND;TZID=America/New_York:20231220T235959
DTSTAMP:20260421T133949
CREATED:20230812T165251Z
LAST-MODIFIED:20230812T165251Z
UID:601-1703030400-1703116799@communityhomeschoolers.org
SUMMARY:Volume Week 11
DESCRIPTION:
URL:https://communityhomeschoolers.org/event/volume-week-11-4/
LOCATION:Conestoga Mennonite Church
CATEGORIES:Volume
END:VEVENT
BEGIN:VEVENT
DTSTART;TZID=America/New_York:20231213T000000
DTEND;TZID=America/New_York:20231213T235959
DTSTAMP:20260421T133949
CREATED:20230812T165952Z
LAST-MODIFIED:20230813T224200Z
UID:626-1702425600-1702511999@communityhomeschoolers.org
SUMMARY:Learning Group Week 10
DESCRIPTION:End of LG Q2
URL:https://communityhomeschoolers.org/event/learning-group-week-10-5/
LOCATION:Conestoga Mennonite Church
CATEGORIES:Learning Group
END:VEVENT
BEGIN:VEVENT
DTSTART;TZID=America/New_York:20231213T000000
DTEND;TZID=America/New_York:20231213T235959
DTSTAMP:20260421T133949
CREATED:20230812T165250Z
LAST-MODIFIED:20230812T165250Z
UID:600-1702425600-1702511999@communityhomeschoolers.org
SUMMARY:Volume Week 10
DESCRIPTION:
URL:https://communityhomeschoolers.org/event/volume-week-10-4/
LOCATION:Conestoga Mennonite Church
CATEGORIES:Volume
END:VEVENT
BEGIN:VEVENT
DTSTART;TZID=America/New_York:20231129T000000
DTEND;TZID=America/New_York:20231129T235959
DTSTAMP:20260421T133949
CREATED:20230812T165951Z
LAST-MODIFIED:20230813T224219Z
UID:625-1701216000-1701302399@communityhomeschoolers.org
SUMMARY:Learning Group Week 9
DESCRIPTION:
URL:https://communityhomeschoolers.org/event/learning-group-week-9-5/
LOCATION:Conestoga Mennonite Church
CATEGORIES:Learning Group
END:VEVENT
BEGIN:VEVENT
DTSTART;TZID=America/New_York:20231129T000000
DTEND;TZID=America/New_York:20231129T235959
DTSTAMP:20260421T133949
CREATED:20230812T165250Z
LAST-MODIFIED:20230812T165250Z
UID:599-1701216000-1701302399@communityhomeschoolers.org
SUMMARY:Volume Week 9
DESCRIPTION:
URL:https://communityhomeschoolers.org/event/volume-week-9-4/
LOCATION:Conestoga Mennonite Church
CATEGORIES:Volume
END:VEVENT
BEGIN:VEVENT
DTSTART;TZID=America/New_York:20231123T000000
DTEND;TZID=America/New_York:20231123T235959
DTSTAMP:20260421T133949
CREATED:20230812T170352Z
LAST-MODIFIED:20230812T170352Z
UID:637-1700697600-1700783999@communityhomeschoolers.org
SUMMARY:Thanksgiving
DESCRIPTION:
URL:https://communityhomeschoolers.org/event/thanksgiving-4/
CATEGORIES:Learning Group,Volume
END:VEVENT
BEGIN:VEVENT
DTSTART;TZID=America/New_York:20231115T000000
DTEND;TZID=America/New_York:20231115T235959
DTSTAMP:20260421T133949
CREATED:20230812T165951Z
LAST-MODIFIED:20230813T224231Z
UID:624-1700006400-1700092799@communityhomeschoolers.org
SUMMARY:Learning Group Week 8
DESCRIPTION:
URL:https://communityhomeschoolers.org/event/learning-group-week-8-5/
LOCATION:Conestoga Mennonite Church
CATEGORIES:Learning Group
END:VEVENT
BEGIN:VEVENT
DTSTART;TZID=America/New_York:20231115T000000
DTEND;TZID=America/New_York:20231115T235959
DTSTAMP:20260421T133949
CREATED:20230812T165250Z
LAST-MODIFIED:20230812T165250Z
UID:598-1700006400-1700092799@communityhomeschoolers.org
SUMMARY:Volume Week 8
DESCRIPTION:
URL:https://communityhomeschoolers.org/event/volume-week-8-4/
LOCATION:Conestoga Mennonite Church
CATEGORIES:Volume
END:VEVENT
BEGIN:VEVENT
DTSTART;TZID=America/New_York:20231108T000000
DTEND;TZID=America/New_York:20231108T235959
DTSTAMP:20260421T133949
CREATED:20230812T165951Z
LAST-MODIFIED:20230813T224242Z
UID:623-1699401600-1699487999@communityhomeschoolers.org
SUMMARY:Learning Group Week 7
DESCRIPTION:
URL:https://communityhomeschoolers.org/event/learning-group-week-7-5/
LOCATION:Conestoga Mennonite Church
CATEGORIES:Learning Group
END:VEVENT
BEGIN:VEVENT
DTSTART;TZID=America/New_York:20231108T000000
DTEND;TZID=America/New_York:20231108T235959
DTSTAMP:20260421T133949
CREATED:20230812T165235Z
LAST-MODIFIED:20230812T165235Z
UID:597-1699401600-1699487999@communityhomeschoolers.org
SUMMARY:Volume Week 7
DESCRIPTION:
URL:https://communityhomeschoolers.org/event/volume-week-7-4/
LOCATION:Conestoga Mennonite Church
CATEGORIES:Volume
END:VEVENT
BEGIN:VEVENT
DTSTART;TZID=America/New_York:20231101T000000
DTEND;TZID=America/New_York:20231101T235959
DTSTAMP:20260421T133949
CREATED:20230812T165552Z
LAST-MODIFIED:20230812T165552Z
UID:616-1698796800-1698883199@communityhomeschoolers.org
SUMMARY:End of Volume Q1
DESCRIPTION:
URL:https://communityhomeschoolers.org/event/end-of-volume-q1-2/
CATEGORIES:Volume
END:VEVENT
BEGIN:VEVENT
DTSTART;TZID=America/New_York:20231025T000000
DTEND;TZID=America/New_York:20231025T235959
DTSTAMP:20260421T133949
CREATED:20230812T165752Z
LAST-MODIFIED:20230813T224253Z
UID:622-1698192000-1698278399@communityhomeschoolers.org
SUMMARY:Learning Group Week 6
DESCRIPTION:
URL:https://communityhomeschoolers.org/event/learning-group-week-6-5/
LOCATION:Conestoga Mennonite Church
CATEGORIES:Learning Group
END:VEVENT
BEGIN:VEVENT
DTSTART;TZID=America/New_York:20231025T000000
DTEND;TZID=America/New_York:20231025T235959
DTSTAMP:20260421T133949
CREATED:20230812T165235Z
LAST-MODIFIED:20230812T165235Z
UID:596-1698192000-1698278399@communityhomeschoolers.org
SUMMARY:Volume Week 6
DESCRIPTION:
URL:https://communityhomeschoolers.org/event/volume-week-6-4/
LOCATION:Conestoga Mennonite Church
CATEGORIES:Volume
END:VEVENT
BEGIN:VEVENT
DTSTART;TZID=America/New_York:20231018T000000
DTEND;TZID=America/New_York:20231018T235959
DTSTAMP:20260421T133949
CREATED:20230812T165752Z
LAST-MODIFIED:20230813T224321Z
UID:621-1697587200-1697673599@communityhomeschoolers.org
SUMMARY:Learning Group Week 5
DESCRIPTION:End of LG Q1
URL:https://communityhomeschoolers.org/event/learning-group-week-5-5/
LOCATION:Conestoga Mennonite Church
CATEGORIES:Learning Group
END:VEVENT
BEGIN:VEVENT
DTSTART;TZID=America/New_York:20231018T000000
DTEND;TZID=America/New_York:20231018T235959
DTSTAMP:20260421T133949
CREATED:20230812T165235Z
LAST-MODIFIED:20230812T165235Z
UID:595-1697587200-1697673599@communityhomeschoolers.org
SUMMARY:Volume Week 5
DESCRIPTION:
URL:https://communityhomeschoolers.org/event/volume-week-5-4/
LOCATION:Conestoga Mennonite Church
CATEGORIES:Volume
END:VEVENT
BEGIN:VEVENT
DTSTART;TZID=America/New_York:20231011T000000
DTEND;TZID=America/New_York:20231011T235959
DTSTAMP:20260421T133949
CREATED:20230812T165752Z
LAST-MODIFIED:20230813T224330Z
UID:620-1696982400-1697068799@communityhomeschoolers.org
SUMMARY:Learning Group Week 4
DESCRIPTION:
URL:https://communityhomeschoolers.org/event/learning-group-week-4-5/
LOCATION:Conestoga Mennonite Church
CATEGORIES:Learning Group
END:VEVENT
BEGIN:VEVENT
DTSTART;TZID=America/New_York:20231011T000000
DTEND;TZID=America/New_York:20231011T235959
DTSTAMP:20260421T133949
CREATED:20230812T165235Z
LAST-MODIFIED:20230812T165235Z
UID:594-1696982400-1697068799@communityhomeschoolers.org
SUMMARY:Volume Week 4
DESCRIPTION:
URL:https://communityhomeschoolers.org/event/volume-week-4-4/
LOCATION:Conestoga Mennonite Church
CATEGORIES:Volume
END:VEVENT
BEGIN:VEVENT
DTSTART;TZID=America/New_York:20230927T000000
DTEND;TZID=America/New_York:20230927T235959
DTSTAMP:20260421T133949
CREATED:20230812T165751Z
LAST-MODIFIED:20230813T224338Z
UID:619-1695772800-1695859199@communityhomeschoolers.org
SUMMARY:Learning Group Week 3
DESCRIPTION:
URL:https://communityhomeschoolers.org/event/learning-group-week-3-5/
LOCATION:Conestoga Mennonite Church
CATEGORIES:Learning Group
END:VEVENT
BEGIN:VEVENT
DTSTART;TZID=America/New_York:20230927T000000
DTEND;TZID=America/New_York:20230927T235959
DTSTAMP:20260421T133949
CREATED:20230812T165235Z
LAST-MODIFIED:20230812T165235Z
UID:593-1695772800-1695859199@communityhomeschoolers.org
SUMMARY:Volume Week 3
DESCRIPTION:
URL:https://communityhomeschoolers.org/event/volume-week-3-4/
LOCATION:Conestoga Mennonite Church
CATEGORIES:Volume
END:VEVENT
BEGIN:VEVENT
DTSTART;TZID=America/New_York:20230920T000000
DTEND;TZID=America/New_York:20230920T235959
DTSTAMP:20260421T133949
CREATED:20230812T165751Z
LAST-MODIFIED:20230813T224345Z
UID:618-1695168000-1695254399@communityhomeschoolers.org
SUMMARY:Learning Group Week 2
DESCRIPTION:
URL:https://communityhomeschoolers.org/event/learning-group-week-2-5/
LOCATION:Conestoga Mennonite Church
CATEGORIES:Learning Group
END:VEVENT
BEGIN:VEVENT
DTSTART;TZID=America/New_York:20230920T000000
DTEND;TZID=America/New_York:20230920T235959
DTSTAMP:20260421T133949
CREATED:20230812T165234Z
LAST-MODIFIED:20230812T165234Z
UID:592-1695168000-1695254399@communityhomeschoolers.org
SUMMARY:Volume Week 2
DESCRIPTION:
URL:https://communityhomeschoolers.org/event/volume-week-2-4/
LOCATION:Conestoga Mennonite Church
CATEGORIES:Volume
END:VEVENT
BEGIN:VEVENT
DTSTART;TZID=America/New_York:20230913T000000
DTEND;TZID=America/New_York:20230913T235959
DTSTAMP:20260421T133949
CREATED:20230812T165552Z
LAST-MODIFIED:20230813T224423Z
UID:617-1694563200-1694649599@communityhomeschoolers.org
SUMMARY:Learning Group Week 1
DESCRIPTION:
URL:https://communityhomeschoolers.org/event/learning-group-week-1-5/
LOCATION:Conestoga Mennonite Church
CATEGORIES:Learning Group
END:VEVENT
BEGIN:VEVENT
DTSTART;TZID=America/New_York:20230913T000000
DTEND;TZID=America/New_York:20230913T235959
DTSTAMP:20260421T133949
CREATED:20230812T165234Z
LAST-MODIFIED:20230812T165234Z
UID:591-1694563200-1694649599@communityhomeschoolers.org
SUMMARY:Volume Week 1
DESCRIPTION:
URL:https://communityhomeschoolers.org/event/volume-week-1-4/
LOCATION:Conestoga Mennonite Church
CATEGORIES:Volume
END:VEVENT
BEGIN:VEVENT
DTSTART;TZID=America/New_York:20230906T103000
DTEND;TZID=America/New_York:20230906T143000
DTSTAMP:20260421T133949
CREATED:20230812T165234Z
LAST-MODIFIED:20230812T165234Z
UID:590-1693996200-1694010600@communityhomeschoolers.org
SUMMARY:Back to School Picnic
DESCRIPTION:
URL:https://communityhomeschoolers.org/event/back-to-school-picnic-4/
LOCATION:Poole Forge
CATEGORIES:Learning Group,Volume
END:VEVENT
BEGIN:VEVENT
DTSTART;TZID=America/New_York:20230830T190000
DTEND;TZID=America/New_York:20230830T210000
DTSTAMP:20260421T133949
CREATED:20230812T165233Z
LAST-MODIFIED:20230812T165233Z
UID:589-1693422000-1693429200@communityhomeschoolers.org
SUMMARY:Back to School Night (Parents)
DESCRIPTION:
URL:https://communityhomeschoolers.org/event/back-to-school-night-parents-2/
LOCATION:Conestoga Mennonite Church
CATEGORIES:Learning Group,Volume
END:VEVENT
BEGIN:VEVENT
DTSTART;TZID=America/New_York:20230830T180000
DTEND;TZID=America/New_York:20230830T210000
DTSTAMP:20260421T133949
CREATED:20230812T165233Z
LAST-MODIFIED:20230812T165233Z
UID:588-1693418400-1693429200@communityhomeschoolers.org
SUMMARY:Back to School Night (Teachers)
DESCRIPTION:
URL:https://communityhomeschoolers.org/event/back-to-school-night-teachers-2/
LOCATION:Conestoga Mennonite Church
CATEGORIES:Learning Group,Volume
END:VEVENT
BEGIN:VEVENT
DTSTART;TZID=America/New_York:20230519T000000
DTEND;TZID=America/New_York:20230519T235959
DTSTAMP:20260421T133949
CREATED:20221124T200023Z
LAST-MODIFIED:20221124T200023Z
UID:354-1684454400-1684540799@communityhomeschoolers.org
SUMMARY:Graduation
DESCRIPTION:
URL:https://communityhomeschoolers.org/event/graduation-2/
LOCATION:Conestoga Mennonite Church
CATEGORIES:Learning Group,Volume
END:VEVENT
END:VCALENDAR