BEGIN:VCALENDAR
VERSION:2.0
PRODID:-//Community Homeschoolers Learning Group - ECPv6.15.1.1//NONSGML v1.0//EN
CALSCALE:GREGORIAN
METHOD:PUBLISH
X-ORIGINAL-URL:https://communityhomeschoolers.org
X-WR-CALDESC:Events for Community Homeschoolers Learning Group
REFRESH-INTERVAL;VALUE=DURATION:PT1H
X-Robots-Tag:noindex
X-PUBLISHED-TTL:PT1H
BEGIN:VTIMEZONE
TZID:America/New_York
BEGIN:DAYLIGHT
TZOFFSETFROM:-0500
TZOFFSETTO:-0400
TZNAME:EDT
DTSTART:20230312T070000
END:DAYLIGHT
BEGIN:STANDARD
TZOFFSETFROM:-0400
TZOFFSETTO:-0500
TZNAME:EST
DTSTART:20231105T060000
END:STANDARD
END:VTIMEZONE
BEGIN:VEVENT
DTSTART;TZID=America/New_York:20230913T000000
DTEND;TZID=America/New_York:20230913T235959
DTSTAMP:20260421T161426
CREATED:20230812T165552Z
LAST-MODIFIED:20230813T224423Z
UID:617-1694563200-1694649599@communityhomeschoolers.org
SUMMARY:Learning Group Week 1
DESCRIPTION:
URL:https://communityhomeschoolers.org/event/learning-group-week-1-5/
LOCATION:Conestoga Mennonite Church
CATEGORIES:Learning Group
END:VEVENT
BEGIN:VEVENT
DTSTART;TZID=America/New_York:20230913T000000
DTEND;TZID=America/New_York:20230913T235959
DTSTAMP:20260421T161426
CREATED:20230812T165234Z
LAST-MODIFIED:20230812T165234Z
UID:591-1694563200-1694649599@communityhomeschoolers.org
SUMMARY:Volume Week 1
DESCRIPTION:
URL:https://communityhomeschoolers.org/event/volume-week-1-4/
LOCATION:Conestoga Mennonite Church
CATEGORIES:Volume
END:VEVENT
BEGIN:VEVENT
DTSTART;TZID=America/New_York:20230906T103000
DTEND;TZID=America/New_York:20230906T143000
DTSTAMP:20260421T161426
CREATED:20230812T165234Z
LAST-MODIFIED:20230812T165234Z
UID:590-1693996200-1694010600@communityhomeschoolers.org
SUMMARY:Back to School Picnic
DESCRIPTION:
URL:https://communityhomeschoolers.org/event/back-to-school-picnic-4/
LOCATION:Poole Forge
CATEGORIES:Learning Group,Volume
END:VEVENT
BEGIN:VEVENT
DTSTART;TZID=America/New_York:20230830T190000
DTEND;TZID=America/New_York:20230830T210000
DTSTAMP:20260421T161426
CREATED:20230812T165233Z
LAST-MODIFIED:20230812T165233Z
UID:589-1693422000-1693429200@communityhomeschoolers.org
SUMMARY:Back to School Night (Parents)
DESCRIPTION:
URL:https://communityhomeschoolers.org/event/back-to-school-night-parents-2/
LOCATION:Conestoga Mennonite Church
CATEGORIES:Learning Group,Volume
END:VEVENT
BEGIN:VEVENT
DTSTART;TZID=America/New_York:20230830T180000
DTEND;TZID=America/New_York:20230830T210000
DTSTAMP:20260421T161426
CREATED:20230812T165233Z
LAST-MODIFIED:20230812T165233Z
UID:588-1693418400-1693429200@communityhomeschoolers.org
SUMMARY:Back to School Night (Teachers)
DESCRIPTION:
URL:https://communityhomeschoolers.org/event/back-to-school-night-teachers-2/
LOCATION:Conestoga Mennonite Church
CATEGORIES:Learning Group,Volume
END:VEVENT
BEGIN:VEVENT
DTSTART;TZID=America/New_York:20230519T000000
DTEND;TZID=America/New_York:20230519T235959
DTSTAMP:20260421T161426
CREATED:20221124T200023Z
LAST-MODIFIED:20221124T200023Z
UID:354-1684454400-1684540799@communityhomeschoolers.org
SUMMARY:Graduation
DESCRIPTION:
URL:https://communityhomeschoolers.org/event/graduation-2/
LOCATION:Conestoga Mennonite Church
CATEGORIES:Learning Group,Volume
END:VEVENT
BEGIN:VEVENT
DTSTART;TZID=America/New_York:20230517T000000
DTEND;TZID=America/New_York:20230517T235959
DTSTAMP:20260421T161426
CREATED:20221124T200323Z
LAST-MODIFIED:20221124T200323Z
UID:380-1684281600-1684367999@communityhomeschoolers.org
SUMMARY:Volume Week 25
DESCRIPTION:
URL:https://communityhomeschoolers.org/event/volume-week-25-2/
LOCATION:Conestoga Mennonite Church
CATEGORIES:Volume
END:VEVENT
BEGIN:VEVENT
DTSTART;TZID=America/New_York:20230512T000000
DTEND;TZID=America/New_York:20230512T235959
DTSTAMP:20260421T161426
CREATED:20221124T200022Z
LAST-MODIFIED:20221124T200022Z
UID:353-1683849600-1683935999@communityhomeschoolers.org
SUMMARY:High School Semi-Formal
DESCRIPTION:
URL:https://communityhomeschoolers.org/event/high-school-semi-formal-2/
LOCATION:Conestoga Mennonite Church
CATEGORIES:Volume
END:VEVENT
BEGIN:VEVENT
DTSTART;TZID=America/New_York:20230510T000000
DTEND;TZID=America/New_York:20230510T235959
DTSTAMP:20260421T161426
CREATED:20221124T200323Z
LAST-MODIFIED:20221124T200323Z
UID:379-1683676800-1683763199@communityhomeschoolers.org
SUMMARY:Volume Week 24
DESCRIPTION:
URL:https://communityhomeschoolers.org/event/volume-week-24-2/
LOCATION:Conestoga Mennonite Church
CATEGORIES:Volume
END:VEVENT
BEGIN:VEVENT
DTSTART;TZID=America/New_York:20230426T083000
DTEND;TZID=America/New_York:20230426T123000
DTSTAMP:20260421T161426
CREATED:20221124T201334Z
LAST-MODIFIED:20221124T201334Z
UID:512-1682497800-1682512200@communityhomeschoolers.org
SUMMARY:Learning Group Week 20
DESCRIPTION:
URL:https://communityhomeschoolers.org/event/learning-group-week-20-4/
LOCATION:Conestoga Mennonite Church
CATEGORIES:Learning Group
END:VEVENT
BEGIN:VEVENT
DTSTART;TZID=America/New_York:20230426T000000
DTEND;TZID=America/New_York:20230426T235959
DTSTAMP:20260421T161426
CREATED:20221124T200323Z
LAST-MODIFIED:20221124T200323Z
UID:378-1682467200-1682553599@communityhomeschoolers.org
SUMMARY:Volume Week 23
DESCRIPTION:
URL:https://communityhomeschoolers.org/event/volume-week-23-2/
LOCATION:Conestoga Mennonite Church
CATEGORIES:Volume
END:VEVENT
BEGIN:VEVENT
DTSTART;TZID=America/New_York:20230419T083000
DTEND;TZID=America/New_York:20230419T123000
DTSTAMP:20260421T161426
CREATED:20221124T201334Z
LAST-MODIFIED:20221124T201334Z
UID:511-1681893000-1681907400@communityhomeschoolers.org
SUMMARY:Learning Group Week 19
DESCRIPTION:
URL:https://communityhomeschoolers.org/event/learning-group-week-19-4/
LOCATION:Conestoga Mennonite Church
CATEGORIES:Learning Group
END:VEVENT
BEGIN:VEVENT
DTSTART;TZID=America/New_York:20230419T000000
DTEND;TZID=America/New_York:20230419T235959
DTSTAMP:20260421T161426
CREATED:20221124T200323Z
LAST-MODIFIED:20221124T200323Z
UID:377-1681862400-1681948799@communityhomeschoolers.org
SUMMARY:Volume Week 22
DESCRIPTION:
URL:https://communityhomeschoolers.org/event/volume-week-22-2/
LOCATION:Conestoga Mennonite Church
CATEGORIES:Volume
END:VEVENT
BEGIN:VEVENT
DTSTART;TZID=America/New_York:20230412T083000
DTEND;TZID=America/New_York:20230412T123000
DTSTAMP:20260421T161426
CREATED:20221124T201334Z
LAST-MODIFIED:20221124T201334Z
UID:510-1681288200-1681302600@communityhomeschoolers.org
SUMMARY:Learning Group Week 18
DESCRIPTION:
URL:https://communityhomeschoolers.org/event/learning-group-week-18-4/
LOCATION:Conestoga Mennonite Church
CATEGORIES:Learning Group
END:VEVENT
BEGIN:VEVENT
DTSTART;TZID=America/New_York:20230412T000000
DTEND;TZID=America/New_York:20230412T235959
DTSTAMP:20260421T161426
CREATED:20221124T200323Z
LAST-MODIFIED:20221124T200323Z
UID:376-1681257600-1681343999@communityhomeschoolers.org
SUMMARY:Volume Week 21
DESCRIPTION:
URL:https://communityhomeschoolers.org/event/volume-week-21-2/
LOCATION:Conestoga Mennonite Church
CATEGORIES:Volume
END:VEVENT
BEGIN:VEVENT
DTSTART;TZID=America/New_York:20230409T000000
DTEND;TZID=America/New_York:20230409T235959
DTSTAMP:20260421T161426
CREATED:20221124T200638Z
LAST-MODIFIED:20221124T200638Z
UID:408-1680998400-1681084799@communityhomeschoolers.org
SUMMARY:Easter
DESCRIPTION:
URL:https://communityhomeschoolers.org/event/easter-2/
CATEGORIES:Learning Group,Volume
END:VEVENT
BEGIN:VEVENT
DTSTART;TZID=America/New_York:20230329T083000
DTEND;TZID=America/New_York:20230329T123000
DTSTAMP:20260421T161426
CREATED:20221124T201334Z
LAST-MODIFIED:20221124T201334Z
UID:509-1680078600-1680093000@communityhomeschoolers.org
SUMMARY:Learning Group Week 17
DESCRIPTION:
URL:https://communityhomeschoolers.org/event/learning-group-week-17-4/
LOCATION:Conestoga Mennonite Church
CATEGORIES:Learning Group
END:VEVENT
BEGIN:VEVENT
DTSTART;TZID=America/New_York:20230329T000000
DTEND;TZID=America/New_York:20230329T235959
DTSTAMP:20260421T161426
CREATED:20221124T200123Z
LAST-MODIFIED:20221124T200123Z
UID:374-1680048000-1680134399@communityhomeschoolers.org
SUMMARY:Volume Week 20
DESCRIPTION:
URL:https://communityhomeschoolers.org/event/volume-week-20-2/
LOCATION:Conestoga Mennonite Church
CATEGORIES:Volume
END:VEVENT
BEGIN:VEVENT
DTSTART;TZID=America/New_York:20230322T083000
DTEND;TZID=America/New_York:20230322T123000
DTSTAMP:20260421T161426
CREATED:20221124T201333Z
LAST-MODIFIED:20221124T201333Z
UID:508-1679473800-1679488200@communityhomeschoolers.org
SUMMARY:Learning Group Week 16
DESCRIPTION:
URL:https://communityhomeschoolers.org/event/learning-group-week-16-4/
LOCATION:Conestoga Mennonite Church
CATEGORIES:Learning Group
END:VEVENT
BEGIN:VEVENT
DTSTART;TZID=America/New_York:20230322T000000
DTEND;TZID=America/New_York:20230322T235959
DTSTAMP:20260421T161426
CREATED:20221124T200123Z
LAST-MODIFIED:20221124T200123Z
UID:373-1679443200-1679529599@communityhomeschoolers.org
SUMMARY:Volume Week 19
DESCRIPTION:
URL:https://communityhomeschoolers.org/event/volume-week-19-2/
LOCATION:Conestoga Mennonite Church
CATEGORIES:Volume
END:VEVENT
BEGIN:VEVENT
DTSTART;TZID=America/New_York:20230315T083000
DTEND;TZID=America/New_York:20230315T123000
DTSTAMP:20260421T161426
CREATED:20221124T201319Z
LAST-MODIFIED:20221124T201319Z
UID:507-1678869000-1678883400@communityhomeschoolers.org
SUMMARY:Learning Group Week 15
DESCRIPTION:
URL:https://communityhomeschoolers.org/event/learning-group-week-15-4/
LOCATION:Conestoga Mennonite Church
CATEGORIES:Learning Group
END:VEVENT
BEGIN:VEVENT
DTSTART;TZID=America/New_York:20230315T000000
DTEND;TZID=America/New_York:20230315T235959
DTSTAMP:20260421T161426
CREATED:20221124T200123Z
LAST-MODIFIED:20221124T200123Z
UID:372-1678838400-1678924799@communityhomeschoolers.org
SUMMARY:Volume Week 18
DESCRIPTION:
URL:https://communityhomeschoolers.org/event/volume-week-18-2/
LOCATION:Conestoga Mennonite Church
CATEGORIES:Volume
END:VEVENT
BEGIN:VEVENT
DTSTART;TZID=America/New_York:20230308T083000
DTEND;TZID=America/New_York:20230308T123000
DTSTAMP:20260421T161426
CREATED:20221124T201319Z
LAST-MODIFIED:20221124T201319Z
UID:506-1678264200-1678278600@communityhomeschoolers.org
SUMMARY:Learning Group Week 14
DESCRIPTION:
URL:https://communityhomeschoolers.org/event/learning-group-week-14-4/
LOCATION:Conestoga Mennonite Church
CATEGORIES:Learning Group
END:VEVENT
BEGIN:VEVENT
DTSTART;TZID=America/New_York:20230308T000000
DTEND;TZID=America/New_York:20230308T235959
DTSTAMP:20260421T161426
CREATED:20221124T200123Z
LAST-MODIFIED:20221124T200123Z
UID:371-1678233600-1678319999@communityhomeschoolers.org
SUMMARY:Volume Week 17
DESCRIPTION:
URL:https://communityhomeschoolers.org/event/volume-week-17-2/
LOCATION:Conestoga Mennonite Church
CATEGORIES:Volume
END:VEVENT
BEGIN:VEVENT
DTSTART;TZID=America/New_York:20230222T083000
DTEND;TZID=America/New_York:20230222T123000
DTSTAMP:20260421T161426
CREATED:20221124T201319Z
LAST-MODIFIED:20221124T201319Z
UID:505-1677054600-1677069000@communityhomeschoolers.org
SUMMARY:Learning Group Week 13
DESCRIPTION:
URL:https://communityhomeschoolers.org/event/learning-group-week-13-4/
LOCATION:Conestoga Mennonite Church
CATEGORIES:Learning Group
END:VEVENT
BEGIN:VEVENT
DTSTART;TZID=America/New_York:20230222T000000
DTEND;TZID=America/New_York:20230222T235959
DTSTAMP:20260421T161426
CREATED:20221124T200123Z
LAST-MODIFIED:20221124T200123Z
UID:370-1677024000-1677110399@communityhomeschoolers.org
SUMMARY:Volume Week 16
DESCRIPTION:
URL:https://communityhomeschoolers.org/event/volume-week-16-2/
LOCATION:Conestoga Mennonite Church
CATEGORIES:Volume
END:VEVENT
BEGIN:VEVENT
DTSTART;TZID=America/New_York:20230215T083000
DTEND;TZID=America/New_York:20230215T123000
DTSTAMP:20260421T161426
CREATED:20221124T201319Z
LAST-MODIFIED:20221124T201319Z
UID:504-1676449800-1676464200@communityhomeschoolers.org
SUMMARY:Learning Group Week 12
DESCRIPTION:
URL:https://communityhomeschoolers.org/event/learning-group-week-12-4/
LOCATION:Conestoga Mennonite Church
CATEGORIES:Learning Group
END:VEVENT
BEGIN:VEVENT
DTSTART;TZID=America/New_York:20230215T000000
DTEND;TZID=America/New_York:20230215T235959
DTSTAMP:20260421T161426
CREATED:20221124T200108Z
LAST-MODIFIED:20221124T200108Z
UID:369-1676419200-1676505599@communityhomeschoolers.org
SUMMARY:Volume Week 15
DESCRIPTION:
URL:https://communityhomeschoolers.org/event/volume-week-15-2/
LOCATION:Conestoga Mennonite Church
CATEGORIES:Volume
END:VEVENT
BEGIN:VEVENT
DTSTART;TZID=America/New_York:20230208T083000
DTEND;TZID=America/New_York:20230208T123000
DTSTAMP:20260421T161426
CREATED:20221124T201318Z
LAST-MODIFIED:20221124T201318Z
UID:503-1675845000-1675859400@communityhomeschoolers.org
SUMMARY:Learning Group Week 11
DESCRIPTION:
URL:https://communityhomeschoolers.org/event/learning-group-week-11-4/
LOCATION:Conestoga Mennonite Church
CATEGORIES:Learning Group
END:VEVENT
BEGIN:VEVENT
DTSTART;TZID=America/New_York:20230208T000000
DTEND;TZID=America/New_York:20230208T235959
DTSTAMP:20260421T161426
CREATED:20221124T200108Z
LAST-MODIFIED:20221124T200108Z
UID:368-1675814400-1675900799@communityhomeschoolers.org
SUMMARY:Volume Week 14
DESCRIPTION:
URL:https://communityhomeschoolers.org/event/volume-week-14-2/
LOCATION:Conestoga Mennonite Church
CATEGORIES:Volume
END:VEVENT
END:VCALENDAR